BEGIN:VCALENDAR
VERSION:2.0
PRODID:-//eventon.com NONSGML v1.0//EN
CALSCALE:GREGORIAN
METHOD:PUBLISH
BEGIN:VEVENT
UID:69e5f7a0e25e7
DTSTAMP:20260420T095336Z
DTSTART:20220528T230000Z
DTEND:20220604T230000Z
LOCATION:Waterman Svpetrvs Resorts
SUMMARY:Yoga & Healing Retreat in Croatia
DESCRIPTION:Join us for an 8-day\,  powerful women&#8217;s yoga and healing
  experience on the beautiful Brač Island in Croatia to &#8230;  Rediscove
 r your own feminine power. Reconnect with your intuition. Reunite with your
  highest self. Yoga. Healing Workshops. Ceremonies. Local Excursions. 1:1 S
 essions. This is for you&#8230; if you have been[..]\nhttps://uniquemindful
 events.com/events/yoga-healing-retreat-in-croatia/
URL:https://uniquemindfulevents.com/events/yoga-healing-retreat-in-croatia/
END:VEVENT
END:VCALENDAR