BEGIN:VCALENDAR
VERSION:2.0
PRODID:-//eventon.com NONSGML v1.0//EN
CALSCALE:GREGORIAN
METHOD:PUBLISH
BEGIN:VEVENT
UID:69e8da90e46f0
DTSTAMP:20260422T142624Z
DTSTART:20221006T170000Z
DTEND:20221006T220000Z
LOCATION:Yoga 4 Love Studio Cabin Inner Goddess Retreats 116 Water Street Ovilla\,  Texas 75154
SUMMARY:Reiki Level 1 Training Attunement Ceremony
DESCRIPTION:Reiki Workshop\,  Ceremony and Training includes Certification.
  Virtual Training\,  or In Studio. Energy healing works in all time and spa
 ce. Reiki 1 practicum and ceremony are for both Level 1 and 2\,  Level 2 co
 mes earlier that day. Purchase will give you an email code to access the ma
 nual and[..]\nhttps://uniquemindfulevents.com/events/reiki-level-1-221006/
URL:https://uniquemindfulevents.com/events/reiki-level-1-221006/
END:VEVENT
END:VCALENDAR